BEGIN:VCALENDAR
VERSION:2.0
PRODID:-//NADI Taman Prestij 11, Balik Pulau - ECPv6.15.13.1//NONSGML v1.0//EN
CALSCALE:GREGORIAN
METHOD:PUBLISH
X-WR-CALNAME:NADI Taman Prestij 11, Balik Pulau
X-ORIGINAL-URL:https://tmnprestij11.nadi.my
X-WR-CALDESC:Events for NADI Taman Prestij 11, Balik Pulau
REFRESH-INTERVAL;VALUE=DURATION:PT1H
X-Robots-Tag:noindex
X-PUBLISHED-TTL:PT1H
BEGIN:VTIMEZONE
TZID:UTC
BEGIN:STANDARD
TZOFFSETFROM:+0000
TZOFFSETTO:+0000
TZNAME:UTC
DTSTART:20230101T000000
END:STANDARD
END:VTIMEZONE
BEGIN:VEVENT
DTSTART;TZID=UTC:20241102T080000
DTEND;TZID=UTC:20241102T170000
DTSTAMP:20260419T233118
CREATED:20241102T162019Z
LAST-MODIFIED:20241102T162019Z
UID:2684-1730534400-1730566800@tmnprestij11.nadi.my
SUMMARY:KELAS KEUSAHAWANAN BUSINESS 101
DESCRIPTION:KELAS KEUSAHAWANAN BUSINESS 101
URL:https://tmnprestij11.nadi.my/event/kelas-keusahawanan-business-101/
CATEGORIES:DEFAULT
END:VEVENT
BEGIN:VEVENT
DTSTART;TZID=UTC:20241026T080000
DTEND;TZID=UTC:20241026T170000
DTSTAMP:20260419T233118
CREATED:20241001T092158Z
LAST-MODIFIED:20241001T092158Z
UID:2683-1729929600-1729962000@tmnprestij11.nadi.my
SUMMARY:KELAS STEM
DESCRIPTION:KELAS STEM
URL:https://tmnprestij11.nadi.my/event/kelas-stem-5/
CATEGORIES:DEFAULT
END:VEVENT
BEGIN:VEVENT
DTSTART;TZID=UTC:20241025T080000
DTEND;TZID=UTC:20241025T170000
DTSTAMP:20260419T233118
CREATED:20241001T092143Z
LAST-MODIFIED:20241001T092143Z
UID:2682-1729843200-1729875600@tmnprestij11.nadi.my
SUMMARY:AIM X NADI (KURSUS AI)
DESCRIPTION:AIM X NADI (KURSUS AI)
URL:https://tmnprestij11.nadi.my/event/aim-x-nadi-kursus-ai/
CATEGORIES:DEFAULT
END:VEVENT
BEGIN:VEVENT
DTSTART;TZID=UTC:20241019T080000
DTEND;TZID=UTC:20241019T170000
DTSTAMP:20260419T233118
CREATED:20241001T092101Z
LAST-MODIFIED:20241001T092101Z
UID:2681-1729324800-1729357200@tmnprestij11.nadi.my
SUMMARY:ESUKAN @ NADI
DESCRIPTION:ESUKAN @ NADI
URL:https://tmnprestij11.nadi.my/event/esukan-nadi/
CATEGORIES:DEFAULT
END:VEVENT
BEGIN:VEVENT
DTSTART;TZID=UTC:20241012T080000
DTEND;TZID=UTC:20241012T170000
DTSTAMP:20260419T233118
CREATED:20241001T092041Z
LAST-MODIFIED:20241001T092041Z
UID:2680-1728720000-1728752400@tmnprestij11.nadi.my
SUMMARY:KELAS ICT
DESCRIPTION:KELAS ICT
URL:https://tmnprestij11.nadi.my/event/kelas-ict/
CATEGORIES:DEFAULT
END:VEVENT
BEGIN:VEVENT
DTSTART;TZID=UTC:20241005T080000
DTEND;TZID=UTC:20241005T170000
DTSTAMP:20260419T233118
CREATED:20241001T092022Z
LAST-MODIFIED:20241001T092022Z
UID:2679-1728115200-1728147600@tmnprestij11.nadi.my
SUMMARY:KELAS AI BING IMAGES
DESCRIPTION:KELAS AI BING IMAGES
URL:https://tmnprestij11.nadi.my/event/kelas-ai-bing-images/
CATEGORIES:DEFAULT
END:VEVENT
BEGIN:VEVENT
DTSTART;TZID=UTC:20241003T080000
DTEND;TZID=UTC:20241003T170000
DTSTAMP:20260419T233118
CREATED:20241001T092000Z
LAST-MODIFIED:20241001T092000Z
UID:2678-1727942400-1727974800@tmnprestij11.nadi.my
SUMMARY:MYFUTURE JOBS PERKESO
DESCRIPTION:MYFUTURE JOBS PERKESO
URL:https://tmnprestij11.nadi.my/event/myfuture-jobs-perkeso/
CATEGORIES:DEFAULT
END:VEVENT
BEGIN:VEVENT
DTSTART;TZID=UTC:20240922T080000
DTEND;TZID=UTC:20240922T170000
DTSTAMP:20260419T233118
CREATED:20240901T100148Z
LAST-MODIFIED:20240901T100148Z
UID:2677-1726992000-1727024400@tmnprestij11.nadi.my
SUMMARY:KELAS STEM
DESCRIPTION:KELAS STEM
URL:https://tmnprestij11.nadi.my/event/kelas-stem-4/
CATEGORIES:DEFAULT
END:VEVENT
BEGIN:VEVENT
DTSTART;TZID=UTC:20240921T080000
DTEND;TZID=UTC:20240921T170000
DTSTAMP:20260419T233118
CREATED:20240901T100130Z
LAST-MODIFIED:20240901T100130Z
UID:2676-1726905600-1726938000@tmnprestij11.nadi.my
SUMMARY:KELAS SOFTSKILL
DESCRIPTION:KELAS SOFTSKILL
URL:https://tmnprestij11.nadi.my/event/kelas-softskill-2/
CATEGORIES:DEFAULT
END:VEVENT
BEGIN:VEVENT
DTSTART;TZID=UTC:20240915T080000
DTEND;TZID=UTC:20240915T170000
DTSTAMP:20260419T233118
CREATED:20240901T100111Z
LAST-MODIFIED:20240901T100111Z
UID:2675-1726387200-1726419600@tmnprestij11.nadi.my
SUMMARY:KELAS ELEARNING
DESCRIPTION:KELAS ELEARNING
URL:https://tmnprestij11.nadi.my/event/kelas-elearning/
CATEGORIES:DEFAULT
END:VEVENT
BEGIN:VEVENT
DTSTART;TZID=UTC:20240914T080000
DTEND;TZID=UTC:20240914T170000
DTSTAMP:20260419T233118
CREATED:20240901T100052Z
LAST-MODIFIED:20240901T100052Z
UID:2674-1726300800-1726333200@tmnprestij11.nadi.my
SUMMARY:KELAS KEUSAHAWANAN GOOGLE BUSINESS
DESCRIPTION:KELAS KEUSAHAWANAN GOOGLE BUSINESS
URL:https://tmnprestij11.nadi.my/event/kelas-keusahawanan-google-business/
CATEGORIES:DEFAULT
END:VEVENT
BEGIN:VEVENT
DTSTART;TZID=UTC:20240908T080000
DTEND;TZID=UTC:20240908T170000
DTSTAMP:20260419T233118
CREATED:20240901T095942Z
LAST-MODIFIED:20240901T095942Z
UID:2673-1725782400-1725814800@tmnprestij11.nadi.my
SUMMARY:KELAS ICT CHATGPT
DESCRIPTION:KELAS ICT CHATGPT
URL:https://tmnprestij11.nadi.my/event/kelas-ict-chatgpt/
CATEGORIES:DEFAULT
END:VEVENT
BEGIN:VEVENT
DTSTART;TZID=UTC:20240907T080000
DTEND;TZID=UTC:20240907T170000
DTSTAMP:20260419T233118
CREATED:20240901T095926Z
LAST-MODIFIED:20240901T095926Z
UID:2672-1725696000-1725728400@tmnprestij11.nadi.my
SUMMARY:KELAS ICT AI
DESCRIPTION:KELAS ICT AI
URL:https://tmnprestij11.nadi.my/event/kelas-ict-ai/
CATEGORIES:DEFAULT
END:VEVENT
BEGIN:VEVENT
DTSTART;TZID=UTC:20240818T080000
DTEND;TZID=UTC:20240818T170000
DTSTAMP:20260419T233118
CREATED:20240801T202435Z
LAST-MODIFIED:20240801T202435Z
UID:2671-1723968000-1724000400@tmnprestij11.nadi.my
SUMMARY:KELAS  E-PEMBELAJARAN KANAK KANAK
DESCRIPTION:KELAS E-PEMBELAJARAN KANAK KANAK
URL:https://tmnprestij11.nadi.my/event/kelas-e-pembelajaran-kanak-kanak/
CATEGORIES:DEFAULT
END:VEVENT
BEGIN:VEVENT
DTSTART;TZID=UTC:20240817T080000
DTEND;TZID=UTC:20240817T170000
DTSTAMP:20260419T233118
CREATED:20240801T202410Z
LAST-MODIFIED:20240801T202410Z
UID:2670-1723881600-1723914000@tmnprestij11.nadi.my
SUMMARY:TAYANGAN VIDEO KEMERDEKAAN
DESCRIPTION:TAYANGAN VIDEO KEMERDEKAAN
URL:https://tmnprestij11.nadi.my/event/tayangan-video-kemerdekaan/
CATEGORIES:DEFAULT
END:VEVENT
BEGIN:VEVENT
DTSTART;TZID=UTC:20240816T080000
DTEND;TZID=UTC:20240816T170000
DTSTAMP:20260419T233118
CREATED:20240801T202344Z
LAST-MODIFIED:20240801T202344Z
UID:2669-1723795200-1723827600@tmnprestij11.nadi.my
SUMMARY:KELAS SOFTSKILL
DESCRIPTION:KELAS SOFTSKILL
URL:https://tmnprestij11.nadi.my/event/kelas-softskill/
CATEGORIES:DEFAULT
END:VEVENT
BEGIN:VEVENT
DTSTART;TZID=UTC:20240811T080000
DTEND;TZID=UTC:20240811T170000
DTSTAMP:20260419T233118
CREATED:20240801T202323Z
LAST-MODIFIED:20240801T202323Z
UID:2668-1723363200-1723395600@tmnprestij11.nadi.my
SUMMARY:KELAS KEUSAHAWANAN COPYWRTING
DESCRIPTION:KELAS KEUSAHAWANAN COPYWRTING
URL:https://tmnprestij11.nadi.my/event/kelas-keusahawanan-copywrting/
CATEGORIES:DEFAULT
END:VEVENT
BEGIN:VEVENT
DTSTART;TZID=UTC:20240810T080000
DTEND;TZID=UTC:20240810T170000
DTSTAMP:20260419T233118
CREATED:20240801T202255Z
LAST-MODIFIED:20240801T202255Z
UID:2667-1723276800-1723309200@tmnprestij11.nadi.my
SUMMARY:KELAS ICT KUIZ KEMERDEKAAN
DESCRIPTION:KELAS ICT KUIZ KEMERDEKAAN
URL:https://tmnprestij11.nadi.my/event/kelas-ict-kuiz-kemerdekaan/
CATEGORIES:DEFAULT
END:VEVENT
BEGIN:VEVENT
DTSTART;TZID=UTC:20240803T080000
DTEND;TZID=UTC:20240803T170000
DTSTAMP:20260419T233118
CREATED:20240801T202230Z
LAST-MODIFIED:20240801T202230Z
UID:2666-1722672000-1722704400@tmnprestij11.nadi.my
SUMMARY:KELAS ICT MELUKIS BENDERA MALAYSIA
DESCRIPTION:KELAS ICT MELUKIS BENDERA MALAYSIA
URL:https://tmnprestij11.nadi.my/event/kelas-ict-melukis-bendera-malaysia/
CATEGORIES:DEFAULT
END:VEVENT
BEGIN:VEVENT
DTSTART;TZID=UTC:20240727T080000
DTEND;TZID=UTC:20240727T170000
DTSTAMP:20260419T233118
CREATED:20240701T083653Z
LAST-MODIFIED:20240701T083653Z
UID:2665-1722067200-1722099600@tmnprestij11.nadi.my
SUMMARY:KELAS KEUSAHAWANAN WHATSAPP BUSINESS
DESCRIPTION:KELAS KEUSAHAWANAN WHATSAPP BUSINESS
URL:https://tmnprestij11.nadi.my/event/kelas-keusahawanan-whatsapp-business/
CATEGORIES:DEFAULT
END:VEVENT
BEGIN:VEVENT
DTSTART;TZID=UTC:20240721T080000
DTEND;TZID=UTC:20240721T170000
DTSTAMP:20260419T233118
CREATED:20240701T083627Z
LAST-MODIFIED:20240701T083627Z
UID:2664-1721548800-1721581200@tmnprestij11.nadi.my
SUMMARY:KELAS KEUSAHAWANAN TIKTOK
DESCRIPTION:KELAS KEUSAHAWANAN TIKTOK
URL:https://tmnprestij11.nadi.my/event/kelas-keusahawanan-tiktok-2/
CATEGORIES:DEFAULT
END:VEVENT
BEGIN:VEVENT
DTSTART;TZID=UTC:20240720T080000
DTEND;TZID=UTC:20240720T170000
DTSTAMP:20260419T233118
CREATED:20240701T083603Z
LAST-MODIFIED:20240701T083603Z
UID:2663-1721462400-1721494800@tmnprestij11.nadi.my
SUMMARY:KELAS ELEARNING KANAK KANAK
DESCRIPTION:KELAS ELEARNING KANAK KANAK
URL:https://tmnprestij11.nadi.my/event/kelas-elearning-kanak-kanak/
CATEGORIES:DEFAULT
END:VEVENT
BEGIN:VEVENT
DTSTART;TZID=UTC:20240714T080000
DTEND;TZID=UTC:20240714T170000
DTSTAMP:20260419T233118
CREATED:20240701T083544Z
LAST-MODIFIED:20240701T083544Z
UID:2662-1720944000-1720976400@tmnprestij11.nadi.my
SUMMARY:KELAS ICT CHAT GPT (MINIT MESYUARAT)
DESCRIPTION:KELAS ICT CHAT GPT (MINIT MESYUARAT)
URL:https://tmnprestij11.nadi.my/event/kelas-ict-chat-gpt-minit-mesyuarat/
CATEGORIES:DEFAULT
END:VEVENT
BEGIN:VEVENT
DTSTART;TZID=UTC:20240713T080000
DTEND;TZID=UTC:20240713T170000
DTSTAMP:20260419T233118
CREATED:20240701T083517Z
LAST-MODIFIED:20240701T083517Z
UID:2661-1720857600-1720890000@tmnprestij11.nadi.my
SUMMARY:KELAS JANA PENDAPATAN KOMUNITI
DESCRIPTION:KELAS JANA PENDAPATAN KOMUNITI
URL:https://tmnprestij11.nadi.my/event/kelas-jana-pendapatan-komuniti/
CATEGORIES:DEFAULT
END:VEVENT
BEGIN:VEVENT
DTSTART;TZID=UTC:20240706T080000
DTEND;TZID=UTC:20240706T170000
DTSTAMP:20260419T233118
CREATED:20240701T083459Z
LAST-MODIFIED:20240701T083459Z
UID:2660-1720252800-1720285200@tmnprestij11.nadi.my
SUMMARY:KELAS STEM TANGAN ROBOTIK
DESCRIPTION:KELAS STEM TANGAN ROBOTIK
URL:https://tmnprestij11.nadi.my/event/kelas-stem-tangan-robotik-3/
CATEGORIES:DEFAULT
END:VEVENT
BEGIN:VEVENT
DTSTART;TZID=UTC:20240622T080000
DTEND;TZID=UTC:20240622T170000
DTSTAMP:20260419T233118
CREATED:20240601T093208Z
LAST-MODIFIED:20240601T093208Z
UID:2659-1719043200-1719075600@tmnprestij11.nadi.my
SUMMARY:KELAS  ASAS ICT MICROSOFT OFFICE EXCELL.
DESCRIPTION:KELAS ASAS ICT MICROSOFT OFFICE EXCELL.
URL:https://tmnprestij11.nadi.my/event/kelas-asas-ict-microsoft-office-excell/
CATEGORIES:DEFAULT
END:VEVENT
BEGIN:VEVENT
DTSTART;TZID=UTC:20240615T080000
DTEND;TZID=UTC:20240615T170000
DTSTAMP:20260419T233118
CREATED:20240601T093145Z
LAST-MODIFIED:20240601T093145Z
UID:2658-1718438400-1718470800@tmnprestij11.nadi.my
SUMMARY:KELAS SOFTSKILL KOMUNIKASI PASUKAN
DESCRIPTION:KELAS SOFTSKILL KOMUNIKASI PASUKAN
URL:https://tmnprestij11.nadi.my/event/kelas-softskill-komunikasi-pasukan/
CATEGORIES:DEFAULT
END:VEVENT
BEGIN:VEVENT
DTSTART;TZID=UTC:20240609T080000
DTEND;TZID=UTC:20240609T170000
DTSTAMP:20260419T233118
CREATED:20240601T093121Z
LAST-MODIFIED:20240601T093121Z
UID:2657-1717920000-1717952400@tmnprestij11.nadi.my
SUMMARY:KELAS STEM KUIZ
DESCRIPTION:KELAS STEM KUIZ
URL:https://tmnprestij11.nadi.my/event/kelas-stem-kuiz/
CATEGORIES:DEFAULT
END:VEVENT
BEGIN:VEVENT
DTSTART;TZID=UTC:20240608T080000
DTEND;TZID=UTC:20240608T170000
DTSTAMP:20260419T233118
CREATED:20240601T093105Z
LAST-MODIFIED:20240601T093105Z
UID:2656-1717833600-1717866000@tmnprestij11.nadi.my
SUMMARY:KELAS STEM  MAGIC FINGER
DESCRIPTION:KELAS STEM MAGIC FINGER
URL:https://tmnprestij11.nadi.my/event/kelas-stem-magic-finger/
CATEGORIES:DEFAULT
END:VEVENT
BEGIN:VEVENT
DTSTART;TZID=UTC:20240602T080000
DTEND;TZID=UTC:20240602T170000
DTSTAMP:20260419T233118
CREATED:20240601T093049Z
LAST-MODIFIED:20240601T093049Z
UID:2655-1717315200-1717347600@tmnprestij11.nadi.my
SUMMARY:KELAS ICT REKA MUKA DEPAN PORTFOLIO
DESCRIPTION:KELAS ICT REKA MUKA DEPAN PORTFOLIO
URL:https://tmnprestij11.nadi.my/event/kelas-ict-reka-muka-depan-portfolio/
CATEGORIES:DEFAULT
END:VEVENT
END:VCALENDAR