BEGIN:VCALENDAR
VERSION:2.0
PRODID:-//NADI Taman Prestij 11, Balik Pulau - ECPv6.15.13.1//NONSGML v1.0//EN
CALSCALE:GREGORIAN
METHOD:PUBLISH
X-ORIGINAL-URL:https://tmnprestij11.nadi.my
X-WR-CALDESC:Events for NADI Taman Prestij 11, Balik Pulau
REFRESH-INTERVAL;VALUE=DURATION:PT1H
X-Robots-Tag:noindex
X-PUBLISHED-TTL:PT1H
BEGIN:VTIMEZONE
TZID:UTC
BEGIN:STANDARD
TZOFFSETFROM:+0000
TZOFFSETTO:+0000
TZNAME:UTC
DTSTART:20230101T000000
END:STANDARD
END:VTIMEZONE
BEGIN:VEVENT
DTSTART;TZID=UTC:20240608T080000
DTEND;TZID=UTC:20240608T170000
DTSTAMP:20260420T001536
CREATED:20240601T093105Z
LAST-MODIFIED:20240601T093105Z
UID:2656-1717833600-1717866000@tmnprestij11.nadi.my
SUMMARY:KELAS STEM  MAGIC FINGER
DESCRIPTION:KELAS STEM MAGIC FINGER
URL:https://tmnprestij11.nadi.my/event/kelas-stem-magic-finger/
CATEGORIES:DEFAULT
END:VEVENT
BEGIN:VEVENT
DTSTART;TZID=UTC:20240602T080000
DTEND;TZID=UTC:20240602T170000
DTSTAMP:20260420T001536
CREATED:20240601T093049Z
LAST-MODIFIED:20240601T093049Z
UID:2655-1717315200-1717347600@tmnprestij11.nadi.my
SUMMARY:KELAS ICT REKA MUKA DEPAN PORTFOLIO
DESCRIPTION:KELAS ICT REKA MUKA DEPAN PORTFOLIO
URL:https://tmnprestij11.nadi.my/event/kelas-ict-reka-muka-depan-portfolio/
CATEGORIES:DEFAULT
END:VEVENT
BEGIN:VEVENT
DTSTART;TZID=UTC:20240601T080000
DTEND;TZID=UTC:20240601T170000
DTSTAMP:20260420T001536
CREATED:20240601T093031Z
LAST-MODIFIED:20240601T093031Z
UID:2654-1717228800-1717261200@tmnprestij11.nadi.my
SUMMARY:KELAS  ICT  LABEL NAMA
DESCRIPTION:KELAS ICT LABEL NAMA
URL:https://tmnprestij11.nadi.my/event/kelas-ict-label-nama/
CATEGORIES:DEFAULT
END:VEVENT
BEGIN:VEVENT
DTSTART;TZID=UTC:20240526T080000
DTEND;TZID=UTC:20240526T170000
DTSTAMP:20260420T001536
CREATED:20240504T103712Z
LAST-MODIFIED:20240504T103712Z
UID:2653-1716710400-1716742800@tmnprestij11.nadi.my
SUMMARY:KELAS  STEM  PELAJAR SK RENDAH
DESCRIPTION:KELAS STEM PELAJAR SK RENDAH
URL:https://tmnprestij11.nadi.my/event/kelas-stem-pelajar-sk-rendah/
CATEGORIES:DEFAULT
END:VEVENT
BEGIN:VEVENT
DTSTART;TZID=UTC:20240525T080000
DTEND;TZID=UTC:20240525T170000
DTSTAMP:20260420T001536
CREATED:20240504T103653Z
LAST-MODIFIED:20240504T103653Z
UID:2652-1716624000-1716656400@tmnprestij11.nadi.my
SUMMARY:KELAS AI
DESCRIPTION:KELAS AI
URL:https://tmnprestij11.nadi.my/event/kelas-ai/
CATEGORIES:DEFAULT
END:VEVENT
BEGIN:VEVENT
DTSTART;TZID=UTC:20240519T080000
DTEND;TZID=UTC:20240519T170000
DTSTAMP:20260420T001536
CREATED:20240504T103629Z
LAST-MODIFIED:20240504T103629Z
UID:2651-1716105600-1716138000@tmnprestij11.nadi.my
SUMMARY:KELAS E-LEARNING
DESCRIPTION:KELAS E-LEARNING
URL:https://tmnprestij11.nadi.my/event/kelas-e-learning-5/
CATEGORIES:DEFAULT
END:VEVENT
BEGIN:VEVENT
DTSTART;TZID=UTC:20240518T080000
DTEND;TZID=UTC:20240518T170000
DTSTAMP:20260420T001536
CREATED:20240504T103606Z
LAST-MODIFIED:20240504T103606Z
UID:2650-1716019200-1716051600@tmnprestij11.nadi.my
SUMMARY:KELAS KEUSAHAWANAN DAFTAR SSM
DESCRIPTION:KELAS KEUSAHAWANAN DAFTAR SSM
URL:https://tmnprestij11.nadi.my/event/kelas-keusahawanan-daftar-ssm/
CATEGORIES:DEFAULT
END:VEVENT
BEGIN:VEVENT
DTSTART;TZID=UTC:20240505T080000
DTEND;TZID=UTC:20240505T170000
DTSTAMP:20260420T001536
CREATED:20240504T103545Z
LAST-MODIFIED:20240504T103545Z
UID:2649-1714896000-1714928400@tmnprestij11.nadi.my
SUMMARY:KELAS KRAF SCRUNCHIE
DESCRIPTION:KELAS KRAF SCRUNCHIE
URL:https://tmnprestij11.nadi.my/event/kelas-kraf-scrunchie-2/
CATEGORIES:DEFAULT
END:VEVENT
BEGIN:VEVENT
DTSTART;TZID=UTC:20240504T080000
DTEND;TZID=UTC:20240504T170000
DTSTAMP:20260420T001536
CREATED:20240504T103520Z
LAST-MODIFIED:20240504T103520Z
UID:2648-1714809600-1714842000@tmnprestij11.nadi.my
SUMMARY:KELAS  ICT MENTIMETER
DESCRIPTION:KELAS ICT MENTIMETER
URL:https://tmnprestij11.nadi.my/event/kelas-ict-mentimeter-2/
CATEGORIES:DEFAULT
END:VEVENT
BEGIN:VEVENT
DTSTART;TZID=UTC:20240504T080000
DTEND;TZID=UTC:20240430T170000
DTSTAMP:20260420T001536
CREATED:20240430T092412Z
LAST-MODIFIED:20240430T092412Z
UID:2647-1714809600-1714496400@tmnprestij11.nadi.my
SUMMARY:KELAS  ICT MENTIMETER
DESCRIPTION:KELAS ICT MENTIMETER
URL:https://tmnprestij11.nadi.my/event/kelas-ict-mentimeter/
CATEGORIES:DEFAULT
END:VEVENT
BEGIN:VEVENT
DTSTART;TZID=UTC:20240422T080000
DTEND;TZID=UTC:20240422T170000
DTSTAMP:20260420T001536
CREATED:20240401T075348Z
LAST-MODIFIED:20240401T075348Z
UID:2646-1713772800-1713805200@tmnprestij11.nadi.my
SUMMARY:KELAS  E-LEARNING  WORDWALL
DESCRIPTION:KELAS E-LEARNING WORDWALL
URL:https://tmnprestij11.nadi.my/event/kelas-e-learning-wordwall/
CATEGORIES:DEFAULT
END:VEVENT
BEGIN:VEVENT
DTSTART;TZID=UTC:20240421T080000
DTEND;TZID=UTC:20240421T170000
DTSTAMP:20260420T001536
CREATED:20240401T075325Z
LAST-MODIFIED:20240401T075325Z
UID:2645-1713686400-1713718800@tmnprestij11.nadi.my
SUMMARY:KELAS KEUSAHAWANAN TIKTOK SELLER
DESCRIPTION:KELAS KEUSAHAWANAN TIKTOK SELLER
URL:https://tmnprestij11.nadi.my/event/kelas-keusahawanan-tiktok-seller/
CATEGORIES:DEFAULT
END:VEVENT
BEGIN:VEVENT
DTSTART;TZID=UTC:20240420T080000
DTEND;TZID=UTC:20240420T170000
DTSTAMP:20260420T001536
CREATED:20240401T075302Z
LAST-MODIFIED:20240401T075302Z
UID:2644-1713600000-1713632400@tmnprestij11.nadi.my
SUMMARY:KELAS STEM
DESCRIPTION:KELAS STEM
URL:https://tmnprestij11.nadi.my/event/kelas-stem-3/
CATEGORIES:DEFAULT
END:VEVENT
BEGIN:VEVENT
DTSTART;TZID=UTC:20240419T080000
DTEND;TZID=UTC:20240419T170000
DTSTAMP:20260420T001536
CREATED:20240401T075242Z
LAST-MODIFIED:20240401T075242Z
UID:2643-1713513600-1713546000@tmnprestij11.nadi.my
SUMMARY:KELAS KRAF SCRUNCHIE
DESCRIPTION:KELAS KRAF SCRUNCHIE
URL:https://tmnprestij11.nadi.my/event/kelas-kraf-scrunchie/
CATEGORIES:DEFAULT
END:VEVENT
BEGIN:VEVENT
DTSTART;TZID=UTC:20240407T080000
DTEND;TZID=UTC:20240407T170000
DTSTAMP:20260420T001536
CREATED:20240401T075219Z
LAST-MODIFIED:20240401T075219Z
UID:2642-1712476800-1712509200@tmnprestij11.nadi.my
SUMMARY:KELAS KAD  RAYA DIGITAL PART 2
DESCRIPTION:KELAS KAD RAYA DIGITAL PART 2
URL:https://tmnprestij11.nadi.my/event/kelas-kad-raya-digital-part-2/
CATEGORIES:DEFAULT
END:VEVENT
BEGIN:VEVENT
DTSTART;TZID=UTC:20240406T080000
DTEND;TZID=UTC:20240406T170000
DTSTAMP:20260420T001536
CREATED:20240401T075201Z
LAST-MODIFIED:20240401T075201Z
UID:2641-1712390400-1712422800@tmnprestij11.nadi.my
SUMMARY:KELAS KAD RAYA DIGITAL PART 1
DESCRIPTION:KELAS KAD RAYA DIGITAL PART 1
URL:https://tmnprestij11.nadi.my/event/kelas-kad-raya-digital-part-1/
CATEGORIES:DEFAULT
END:VEVENT
BEGIN:VEVENT
DTSTART;TZID=UTC:20240323T080000
DTEND;TZID=UTC:20240323T170000
DTSTAMP:20260420T001536
CREATED:20240301T212344Z
LAST-MODIFIED:20240301T212344Z
UID:2640-1711180800-1711213200@tmnprestij11.nadi.my
SUMMARY:KELAS  E-LEARNING  KAHOOT
DESCRIPTION:KELAS E-LEARNING KAHOOT
URL:https://tmnprestij11.nadi.my/event/kelas-e-learning-kahoot-2/
CATEGORIES:DEFAULT
END:VEVENT
BEGIN:VEVENT
DTSTART;TZID=UTC:20240317T080000
DTEND;TZID=UTC:20240317T170000
DTSTAMP:20260420T001536
CREATED:20240301T212320Z
LAST-MODIFIED:20240301T212320Z
UID:2639-1710662400-1710694800@tmnprestij11.nadi.my
SUMMARY:KELAS E-LEARNING SQUISH YOUR BRAIN
DESCRIPTION:KELAS E-LEARNING SQUISH YOUR BRAIN
URL:https://tmnprestij11.nadi.my/event/kelas-e-learning-squish-your-brain/
CATEGORIES:DEFAULT
END:VEVENT
BEGIN:VEVENT
DTSTART;TZID=UTC:20240316T080000
DTEND;TZID=UTC:20240316T170000
DTSTAMP:20260420T001536
CREATED:20240301T212259Z
LAST-MODIFIED:20240301T212259Z
UID:2638-1710576000-1710608400@tmnprestij11.nadi.my
SUMMARY:KELAS SOFTSKILL  COVER LETTER
DESCRIPTION:KELAS SOFTSKILL COVER LETTER
URL:https://tmnprestij11.nadi.my/event/kelas-softskill-cover-letter/
CATEGORIES:DEFAULT
END:VEVENT
BEGIN:VEVENT
DTSTART;TZID=UTC:20240309T080000
DTEND;TZID=UTC:20240309T170000
DTSTAMP:20260420T001536
CREATED:20240301T212051Z
LAST-MODIFIED:20240301T212051Z
UID:2636-1709971200-1710003600@tmnprestij11.nadi.my
SUMMARY:KELAS KEUSAHAWANAN  CHAT GPT
DESCRIPTION:KELAS KEUSAHAWANAN CHAT GPT
URL:https://tmnprestij11.nadi.my/event/kelas-keusahawanan-chat-gpt/
CATEGORIES:DEFAULT
END:VEVENT
BEGIN:VEVENT
DTSTART;TZID=UTC:20240309T080000
DTEND;TZID=UTC:20240301T170000
DTSTAMP:20260420T001536
CREATED:20240301T212112Z
LAST-MODIFIED:20240301T212112Z
UID:2637-1709971200-1709312400@tmnprestij11.nadi.my
SUMMARY:KELAS KEUSAHAWANAN  CHAT GPT
DESCRIPTION:KELAS KEUSAHAWANAN CHAT GPT
URL:https://tmnprestij11.nadi.my/event/kelas-keusahawanan-chat-gpt-2/
CATEGORIES:DEFAULT
END:VEVENT
BEGIN:VEVENT
DTSTART;TZID=UTC:20240303T080000
DTEND;TZID=UTC:20240303T170000
DTSTAMP:20260420T001536
CREATED:20240301T212032Z
LAST-MODIFIED:20240301T212032Z
UID:2635-1709452800-1709485200@tmnprestij11.nadi.my
SUMMARY:KELAS ASAS  POWERPOINT (LABEL NAMA)
DESCRIPTION:KELAS ASAS POWERPOINT (LABEL NAMA)
URL:https://tmnprestij11.nadi.my/event/kelas-asas-powerpoint-label-nama/
CATEGORIES:DEFAULT
END:VEVENT
BEGIN:VEVENT
DTSTART;TZID=UTC:20240302T080000
DTEND;TZID=UTC:20240302T170000
DTSTAMP:20260420T001536
CREATED:20240301T212007Z
LAST-MODIFIED:20240301T212007Z
UID:2634-1709366400-1709398800@tmnprestij11.nadi.my
SUMMARY:KELAS ASAS ICT POSTER AI
DESCRIPTION:KELAS ASAS ICT POSTER AI
URL:https://tmnprestij11.nadi.my/event/kelas-asas-ict-poster-ai/
CATEGORIES:DEFAULT
END:VEVENT
BEGIN:VEVENT
DTSTART;TZID=UTC:20240225T080000
DTEND;TZID=UTC:20240225T170000
DTSTAMP:20260420T001536
CREATED:20240130T105238Z
LAST-MODIFIED:20240130T105238Z
UID:2633-1708848000-1708880400@tmnprestij11.nadi.my
SUMMARY:KELAS  ICT REKA PENANDA BUKU
DESCRIPTION:KELAS ICT REKA PENANDA BUKU
URL:https://tmnprestij11.nadi.my/event/kelas-ict-reka-penanda-buku/
CATEGORIES:DEFAULT
END:VEVENT
BEGIN:VEVENT
DTSTART;TZID=UTC:20240224T080000
DTEND;TZID=UTC:20240229T170000
DTSTAMP:20260420T001536
CREATED:20240130T105158Z
LAST-MODIFIED:20240130T105158Z
UID:2632-1708761600-1709226000@tmnprestij11.nadi.my
SUMMARY:KELAS E-LEARNING
DESCRIPTION:KELAS E-LEARNING
URL:https://tmnprestij11.nadi.my/event/kelas-e-learning-4/
CATEGORIES:DEFAULT
END:VEVENT
BEGIN:VEVENT
DTSTART;TZID=UTC:20240218T080000
DTEND;TZID=UTC:20240229T170000
DTSTAMP:20260420T001536
CREATED:20240130T105136Z
LAST-MODIFIED:20240130T105136Z
UID:2631-1708243200-1709226000@tmnprestij11.nadi.my
SUMMARY:KELAS SOFTSKILL KEMAHIRAN BERKOMUNIKASI
DESCRIPTION:KELAS SOFTSKILL KEMAHIRAN BERKOMUNIKASI
URL:https://tmnprestij11.nadi.my/event/kelas-softskill-kemahiran-berkomunikasi/
CATEGORIES:DEFAULT
END:VEVENT
BEGIN:VEVENT
DTSTART;TZID=UTC:20240217T080000
DTEND;TZID=UTC:20240229T170000
DTSTAMP:20260420T001536
CREATED:20240130T105105Z
LAST-MODIFIED:20240130T105105Z
UID:2630-1708156800-1709226000@tmnprestij11.nadi.my
SUMMARY:KELAS KEUSAHAWANAN ATUR KEDAI SHOPEE
DESCRIPTION:KELAS KEUSAHAWANAN ATUR KEDAI SHOPEE
URL:https://tmnprestij11.nadi.my/event/kelas-keusahawanan-atur-kedai-shopee/
CATEGORIES:DEFAULT
END:VEVENT
BEGIN:VEVENT
DTSTART;TZID=UTC:20240204T080000
DTEND;TZID=UTC:20240229T170000
DTSTAMP:20260420T001536
CREATED:20240130T105036Z
LAST-MODIFIED:20240130T105036Z
UID:2629-1707033600-1709226000@tmnprestij11.nadi.my
SUMMARY:KELAS STEM  TANGAN ROBOTIK
DESCRIPTION:KELAS STEM TANGAN ROBOTIK
URL:https://tmnprestij11.nadi.my/event/kelas-stem-tangan-robotik-2/
CATEGORIES:DEFAULT
END:VEVENT
BEGIN:VEVENT
DTSTART;TZID=UTC:20240203T080000
DTEND;TZID=UTC:20240229T170000
DTSTAMP:20260420T001536
CREATED:20240130T105011Z
LAST-MODIFIED:20240130T105011Z
UID:2628-1706947200-1709226000@tmnprestij11.nadi.my
SUMMARY:KELAS ASAS ICT MENGENALI KOMPONEN KOMPUTER
DESCRIPTION:KELAS ASAS ICT MENGENALI KOMPONEN KOMPUTER
URL:https://tmnprestij11.nadi.my/event/kelas-asas-ict-mengenali-komponen-komputer/
CATEGORIES:DEFAULT
END:VEVENT
BEGIN:VEVENT
DTSTART;TZID=UTC:20240128T080000
DTEND;TZID=UTC:20240129T170000
DTSTAMP:20260420T001536
CREATED:20231229T170924Z
LAST-MODIFIED:20231229T170924Z
UID:2627-1706428800-1706547600@tmnprestij11.nadi.my
SUMMARY:ETUISYEN
DESCRIPTION:ETUISYEN
URL:https://tmnprestij11.nadi.my/event/etuisyen/
CATEGORIES:DEFAULT
END:VEVENT
END:VCALENDAR