BEGIN:VCALENDAR
VERSION:2.0
PRODID:-//NADI Taman Prestij 11, Balik Pulau - ECPv6.15.20//NONSGML v1.0//EN
CALSCALE:GREGORIAN
METHOD:PUBLISH
X-WR-CALNAME:NADI Taman Prestij 11, Balik Pulau
X-ORIGINAL-URL:https://tmnprestij11.nadi.my
X-WR-CALDESC:Events for NADI Taman Prestij 11, Balik Pulau
REFRESH-INTERVAL;VALUE=DURATION:PT1H
X-Robots-Tag:noindex
X-PUBLISHED-TTL:PT1H
BEGIN:VTIMEZONE
TZID:UTC
BEGIN:STANDARD
TZOFFSETFROM:+0000
TZOFFSETTO:+0000
TZNAME:UTC
DTSTART:20240101T000000
END:STANDARD
END:VTIMEZONE
BEGIN:VEVENT
DTSTART;TZID=UTC:20250111T150000
DTEND;TZID=UTC:20250111T170000
DTSTAMP:20260423T230815
CREATED:20250101T000151Z
LAST-MODIFIED:20250101T000151Z
UID:2870-1736607600-1736614800@tmnprestij11.nadi.my
SUMMARY:KELAS CANVA REKA PETA MINDA
DESCRIPTION:KELAS CANVA REKA PETA MINDA
URL:https://tmnprestij11.nadi.my/event/kelas-canva-reka-peta-minda/
END:VEVENT
END:VCALENDAR