BEGIN:VCALENDAR
VERSION:2.0
PRODID:-//NADI Taman Prestij 11, Balik Pulau - ECPv6.15.13.1//NONSGML v1.0//EN
CALSCALE:GREGORIAN
METHOD:PUBLISH
X-WR-CALNAME:NADI Taman Prestij 11, Balik Pulau
X-ORIGINAL-URL:https://tmnprestij11.nadi.my
X-WR-CALDESC:Events for NADI Taman Prestij 11, Balik Pulau
REFRESH-INTERVAL;VALUE=DURATION:PT1H
X-Robots-Tag:noindex
X-PUBLISHED-TTL:PT1H
BEGIN:VTIMEZONE
TZID:UTC
BEGIN:STANDARD
TZOFFSETFROM:+0000
TZOFFSETTO:+0000
TZNAME:UTC
DTSTART:20230101T000000
END:STANDARD
END:VTIMEZONE
BEGIN:VEVENT
DTSTART;TZID=UTC:20241205T080000
DTEND;TZID=UTC:20241219T170000
DTSTAMP:20260423T024426
CREATED:20241202T173948Z
LAST-MODIFIED:20241202T173948Z
UID:2693-1733385600-1734627600@tmnprestij11.nadi.my
SUMMARY:KELAS KESEDARAN NADI X ESUKAN
DESCRIPTION:KELAS KESEDARAN NADI X ESUKAN
URL:https://tmnprestij11.nadi.my/event/kelas-kesedaran-nadi-x-esukan-2/
CATEGORIES:DEFAULT
END:VEVENT
BEGIN:VEVENT
DTSTART;TZID=UTC:20241206T080000
DTEND;TZID=UTC:20241212T170000
DTSTAMP:20260423T024426
CREATED:20241202T173930Z
LAST-MODIFIED:20241202T173930Z
UID:2692-1733472000-1734022800@tmnprestij11.nadi.my
SUMMARY:PROGRAM KAFETEEN LPPKN
DESCRIPTION:PROGRAM KAFETEEN LPPKN
URL:https://tmnprestij11.nadi.my/event/program-kafeteen-lppkn/
CATEGORIES:DEFAULT
END:VEVENT
END:VCALENDAR