BEGIN:VCALENDAR
VERSION:2.0
PRODID:-//NADI Taman Prestij 11, Balik Pulau - ECPv6.15.20//NONSGML v1.0//EN
CALSCALE:GREGORIAN
METHOD:PUBLISH
X-WR-CALNAME:NADI Taman Prestij 11, Balik Pulau
X-ORIGINAL-URL:https://tmnprestij11.nadi.my
X-WR-CALDESC:Events for NADI Taman Prestij 11, Balik Pulau
REFRESH-INTERVAL;VALUE=DURATION:PT1H
X-Robots-Tag:noindex
X-PUBLISHED-TTL:PT1H
BEGIN:VTIMEZONE
TZID:UTC
BEGIN:STANDARD
TZOFFSETFROM:+0000
TZOFFSETTO:+0000
TZNAME:UTC
DTSTART:20230101T000000
END:STANDARD
END:VTIMEZONE
BEGIN:VEVENT
DTSTART;TZID=UTC:20241203T080000
DTEND;TZID=UTC:20241203T170000
DTSTAMP:20260423T201201
CREATED:20241202T173857Z
LAST-MODIFIED:20241202T173857Z
UID:2690-1733212800-1733245200@tmnprestij11.nadi.my
SUMMARY:MYFUTURE JOBS PERKESO
DESCRIPTION:MYFUTURE JOBS PERKESO
URL:https://tmnprestij11.nadi.my/event/myfuture-jobs-perkeso-2/
CATEGORIES:DEFAULT
END:VEVENT
END:VCALENDAR