BEGIN:VCALENDAR
VERSION:2.0
PRODID:-//NADI Taman Prestij 11, Balik Pulau - ECPv6.15.20//NONSGML v1.0//EN
CALSCALE:GREGORIAN
METHOD:PUBLISH
X-WR-CALNAME:NADI Taman Prestij 11, Balik Pulau
X-ORIGINAL-URL:https://tmnprestij11.nadi.my
X-WR-CALDESC:Events for NADI Taman Prestij 11, Balik Pulau
REFRESH-INTERVAL;VALUE=DURATION:PT1H
X-Robots-Tag:noindex
X-PUBLISHED-TTL:PT1H
BEGIN:VTIMEZONE
TZID:UTC
BEGIN:STANDARD
TZOFFSETFROM:+0000
TZOFFSETTO:+0000
TZNAME:UTC
DTSTART:20230101T000000
END:STANDARD
END:VTIMEZONE
BEGIN:VEVENT
DTSTART;TZID=UTC:20241005T080000
DTEND;TZID=UTC:20241005T170000
DTSTAMP:20260424T103332
CREATED:20241001T092022Z
LAST-MODIFIED:20241001T092022Z
UID:2679-1728115200-1728147600@tmnprestij11.nadi.my
SUMMARY:KELAS AI BING IMAGES
DESCRIPTION:KELAS AI BING IMAGES
URL:https://tmnprestij11.nadi.my/event/kelas-ai-bing-images/
CATEGORIES:DEFAULT
END:VEVENT
END:VCALENDAR