BEGIN:VCALENDAR
VERSION:2.0
PRODID:-//NADI Taman Prestij 11, Balik Pulau - ECPv6.15.20//NONSGML v1.0//EN
CALSCALE:GREGORIAN
METHOD:PUBLISH
X-WR-CALNAME:NADI Taman Prestij 11, Balik Pulau
X-ORIGINAL-URL:https://tmnprestij11.nadi.my
X-WR-CALDESC:Events for NADI Taman Prestij 11, Balik Pulau
REFRESH-INTERVAL;VALUE=DURATION:PT1H
X-Robots-Tag:noindex
X-PUBLISHED-TTL:PT1H
BEGIN:VTIMEZONE
TZID:UTC
BEGIN:STANDARD
TZOFFSETFROM:+0000
TZOFFSETTO:+0000
TZNAME:UTC
DTSTART:20230101T000000
END:STANDARD
END:VTIMEZONE
BEGIN:VEVENT
DTSTART;TZID=UTC:20240921T080000
DTEND;TZID=UTC:20240921T170000
DTSTAMP:20260425T150655
CREATED:20240901T100130Z
LAST-MODIFIED:20240901T100130Z
UID:2676-1726905600-1726938000@tmnprestij11.nadi.my
SUMMARY:KELAS SOFTSKILL
DESCRIPTION:KELAS SOFTSKILL
URL:https://tmnprestij11.nadi.my/event/kelas-softskill-2/
CATEGORIES:DEFAULT
END:VEVENT
END:VCALENDAR